BEGIN:VCALENDAR
VERSION:2.0
PRODID:-//Boulevard at Box Hill - ECPv5.14.0.4//NONSGML v1.0//EN
CALSCALE:GREGORIAN
METHOD:PUBLISH
X-WR-CALNAME:Boulevard at Box Hill
X-ORIGINAL-URL:https://www.boulevardatboxhill.com
X-WR-CALDESC:Events for Boulevard at Box Hill
BEGIN:VTIMEZONE
TZID:America/New_York
BEGIN:DAYLIGHT
TZOFFSETFROM:-0500
TZOFFSETTO:-0400
TZNAME:EDT
DTSTART:20190310T070000
END:DAYLIGHT
BEGIN:STANDARD
TZOFFSETFROM:-0400
TZOFFSETTO:-0500
TZNAME:EST
DTSTART:20191103T060000
END:STANDARD
END:VTIMEZONE
BEGIN:VEVENT
DTSTART;TZID=America/New_York:20190828T183000
DTEND;TZID=America/New_York:20190828T193000
DTSTAMP:20260420T102149
CREATED:20190812T222635Z
LAST-MODIFIED:20190812T222728Z
UID:2481-1567017000-1567020600@www.boulevardatboxhill.com
SUMMARY:Cranking for the Cure Ride at True Cycling Studio
DESCRIPTION:CRANKING FOR THE CURE\n6:45 – 7:15 p.m. 30-minute Ride\n$20/person \nRide to support the V Foundation\, a charitable organization dedicated to achieving Victory Over Cancer. One of our own crew members\, Melissa Campbell\, will participate in the coast to coast ride to raise for cancer research. \nIf we get 30 or more riders to join the event\, then we will give a GoPro camera as a door prize! Don’t miss the opportunity to donate for a great cause\, enjoy the ride\, and win a GoPro camera. \nCOAST-TO-COAST \nOn September 4th\, employees from Bristol-Myers Squibb will embark on an epic journey – cycling coast to coast across America to raise funds for cancer research. \nMelissa Campbell is an employee from Bristol-Myers Squibb who is also a member at True Cycling Studio. She is one of the 109 riders supporting the V Foundation. Each rider is trying to collect $5\,000 for cancer research\, but we can’t do it without yo
URL:https://www.boulevardatboxhill.com/event/2481/
ATTACH;FMTTYPE=image/jpeg:https://www.boulevardatboxhill.com/wp-content/uploads/2019/08/67665374_2320834924844826_2184780203400626176_n.jpg
END:VEVENT
END:VCALENDAR