BEGIN:VCALENDAR
VERSION:2.0
PRODID:-//Boulevard at Box Hill - ECPv5.14.0.4//NONSGML v1.0//EN
CALSCALE:GREGORIAN
METHOD:PUBLISH
X-WR-CALNAME:Boulevard at Box Hill
X-ORIGINAL-URL:https://www.boulevardatboxhill.com
X-WR-CALDESC:Events for Boulevard at Box Hill
BEGIN:VTIMEZONE
TZID:America/New_York
BEGIN:DAYLIGHT
TZOFFSETFROM:-0500
TZOFFSETTO:-0400
TZNAME:EDT
DTSTART:20200308T070000
END:DAYLIGHT
BEGIN:STANDARD
TZOFFSETFROM:-0400
TZOFFSETTO:-0500
TZNAME:EST
DTSTART:20201101T060000
END:STANDARD
END:VTIMEZONE
BEGIN:VEVENT
DTSTART;VALUE=DATE:20201109
DTEND;VALUE=DATE:20201124
DTSTAMP:20260420T083225
CREATED:20201106T174807Z
LAST-MODIFIED:20201201T200754Z
UID:2774-1604880000-1606175999@www.boulevardatboxhill.com
SUMMARY:Boulevard Fall Scavenger Hunt
DESCRIPTION:UPDATE: Contest entry is now closed. Stay tuned for the announcement of winners through our Facebook page!  \nGrab your Scavenger Sheet and hunt around The Boulevard this fall! Our Boulevard stores have missed seeing you in person and would love to see your smiling faces outside their windows. Stop in and do some shopping while you’re at it! \nHow does it work? \n\nPrint out our Scavenger Sheet here!\nLook for stickers on the outside of our participating retailers’ windows.\nMatch the fall icon to your sheet and write in the name of the participating retailer.\nFill it in completely and submit it here for a chance to win our grand prize\, a huge gift basket filled with Boulevard at Box Hill goodies!\n\nThe hunt starts on Monday\, 11/9. \nPlease read the official contest rules here. \nThank you to our participating Boulevard at Box Hill partners:\nBACCO Italian & Wine Bar\nConrad’s Seafood Restaurant\nDance Conservatory of MD\nLemon N Ginger Grille\nMenchie’s Frozen Yogurt\nPanera Bread\nSpa on the Boulevard\nThe Games Club\nTrue Cycling Studio
URL:https://www.boulevardatboxhill.com/event/boulevard-fall-scavenger-hunt/
LOCATION:Boulevard at Box Hill\, 3491 Merchant Boulevard\, Abingdon\, MD\, 21009\, United States
ATTACH;FMTTYPE=image/jpeg:https://www.boulevardatboxhill.com/wp-content/uploads/2020/11/WP-FallScavengerHunt-digital-1200x628-1.jpg
END:VEVENT
END:VCALENDAR