BEGIN:VCALENDAR
VERSION:2.0
PRODID:-//Boulevard at Box Hill - ECPv5.14.0.4//NONSGML v1.0//EN
CALSCALE:GREGORIAN
METHOD:PUBLISH
X-WR-CALNAME:Boulevard at Box Hill
X-ORIGINAL-URL:https://www.boulevardatboxhill.com
X-WR-CALDESC:Events for Boulevard at Box Hill
BEGIN:VTIMEZONE
TZID:America/New_York
BEGIN:DAYLIGHT
TZOFFSETFROM:-0500
TZOFFSETTO:-0400
TZNAME:EDT
DTSTART:20210314T070000
END:DAYLIGHT
BEGIN:STANDARD
TZOFFSETFROM:-0400
TZOFFSETTO:-0500
TZNAME:EST
DTSTART:20211107T060000
END:STANDARD
END:VTIMEZONE
BEGIN:VEVENT
DTSTART;TZID=America/New_York:20211009T160000
DTEND;TZID=America/New_York:20211009T200000
DTSTAMP:20260420T072327
CREATED:20211012T164236Z
LAST-MODIFIED:20211012T164445Z
UID:2958-1633795200-1633809600@www.boulevardatboxhill.com
SUMMARY:Cruise on the Boulevard
DESCRIPTION:We’re welcoming back the Boulevard Cruisers in 2021! Check it out on Saturdays from 4-8 PM. This is a local weekly car cruise for car lovers to gather and share. This is open to all early and late model muscle cars and trucks\, ‘tuner style’ performance\, antiques\, vintage\, and special interest cars. All makes and models\, hot rods\, street rods\, muscle cars…the more\, the merrier. No daily drivers.\n\nMake it fun and special!\nMake sure to check out the rules before you come and be aware of others. Keep it professional and fun!\n\nCheck out Facebook for real-time event updates here.
URL:https://www.boulevardatboxhill.com/event/cruise-on-the-boulevard/2021-10-09/
ATTACH;FMTTYPE=image/jpeg:https://www.boulevardatboxhill.com/wp-content/uploads/2021/05/185582530_5448127861895188_3018729618190062454_n-1.jpeg
END:VEVENT
END:VCALENDAR