BEGIN:VCALENDAR
VERSION:2.0
PRODID:-//Boulevard at Box Hill - ECPv5.14.0.4//NONSGML v1.0//EN
CALSCALE:GREGORIAN
METHOD:PUBLISH
X-WR-CALNAME:Boulevard at Box Hill
X-ORIGINAL-URL:https://www.boulevardatboxhill.com
X-WR-CALDESC:Events for Boulevard at Box Hill
BEGIN:VTIMEZONE
TZID:America/New_York
BEGIN:DAYLIGHT
TZOFFSETFROM:-0500
TZOFFSETTO:-0400
TZNAME:EDT
DTSTART:20210314T070000
END:DAYLIGHT
BEGIN:STANDARD
TZOFFSETFROM:-0400
TZOFFSETTO:-0500
TZNAME:EST
DTSTART:20211107T060000
END:STANDARD
END:VTIMEZONE
BEGIN:VEVENT
DTSTART;TZID=America/New_York:20210716T190000
DTEND;TZID=America/New_York:20210716T203000
DTSTAMP:20260420T090126
CREATED:20210514T200335Z
LAST-MODIFIED:20210628T125316Z
UID:2886-1626462000-1626467400@www.boulevardatboxhill.com
SUMMARY:Sunsets on the BOULEVARD - The Magical Mystery Girls
DESCRIPTION:Sunsets on the BOULEVARD is back this summer! Bring your family\, blanket\, and chairs to enjoy free live music as the sun sets in Harford County. \nMark your calendars for The Magical Mystery Girls\, an all-female Beatles tribute band\, kicking us off on 7/16. We’ll share info here as we get closer to the event so RSVP on Facebook for updates. \nThe party is at The BOULEVARD this summer on Friday nights from 7/16-8/27!
URL:https://www.boulevardatboxhill.com/event/sunsets-on-the-boulevard-the-magical-mystery-girls/
LOCATION:Boulevard at Box Hill\, 3491 Merchant Boulevard\, Abingdon\, MD\, 21009\, United States
ATTACH;FMTTYPE=image/jpeg:https://www.boulevardatboxhill.com/wp-content/uploads/2021/05/185838929_5459303314110976_1216351748836481104_n.jpeg
END:VEVENT
END:VCALENDAR