BEGIN:VCALENDAR
VERSION:2.0
PRODID:-//Boulevard at Box Hill - ECPv5.14.0.4//NONSGML v1.0//EN
CALSCALE:GREGORIAN
METHOD:PUBLISH
X-WR-CALNAME:Boulevard at Box Hill
X-ORIGINAL-URL:https://www.boulevardatboxhill.com
X-WR-CALDESC:Events for Boulevard at Box Hill
BEGIN:VTIMEZONE
TZID:America/New_York
BEGIN:DAYLIGHT
TZOFFSETFROM:-0500
TZOFFSETTO:-0400
TZNAME:EDT
DTSTART:20220313T070000
END:DAYLIGHT
BEGIN:STANDARD
TZOFFSETFROM:-0400
TZOFFSETTO:-0500
TZNAME:EST
DTSTART:20221106T060000
END:STANDARD
END:VTIMEZONE
BEGIN:VEVENT
DTSTART;TZID=America/New_York:20220624T190000
DTEND;TZID=America/New_York:20220624T203000
DTSTAMP:20260420T073328
CREATED:20220426T155831Z
LAST-MODIFIED:20220426T155831Z
UID:2990-1656097200-1656102600@www.boulevardatboxhill.com
SUMMARY:The 1974
DESCRIPTION:Sunsets on the Boulevard are BACK this summer! Enjoy free live music every last Friday of the month from June through September. Bring your family\, friends\, a blanket\, or a chair\, and enjoy great music as the sun goes down. \nBe sure to mark your calendars for The 1974! This classic pop band is known to play favorite 70s hits that we all know\, love\, and grew up on. They’re kicking off the start of our concerts series on June 24th. You won’t want to miss The 1974! \nRSVP on our Facebook page for updates as we get closer to the event!
URL:https://www.boulevardatboxhill.com/event/the-1974/
ATTACH;FMTTYPE=image/jpeg:https://www.boulevardatboxhill.com/wp-content/uploads/2022/04/Sunsets2022-1200x627px.jpg
END:VEVENT
END:VCALENDAR