BEGIN:VCALENDAR
VERSION:2.0
PRODID:-//Boulevard at Box Hill - ECPv5.14.0.4//NONSGML v1.0//EN
CALSCALE:GREGORIAN
METHOD:PUBLISH
X-WR-CALNAME:Boulevard at Box Hill
X-ORIGINAL-URL:https://www.boulevardatboxhill.com
X-WR-CALDESC:Events for Boulevard at Box Hill
BEGIN:VTIMEZONE
TZID:America/New_York
BEGIN:DAYLIGHT
TZOFFSETFROM:-0500
TZOFFSETTO:-0400
TZNAME:EDT
DTSTART:20190310T070000
END:DAYLIGHT
BEGIN:STANDARD
TZOFFSETFROM:-0400
TZOFFSETTO:-0500
TZNAME:EST
DTSTART:20191103T060000
END:STANDARD
END:VTIMEZONE
BEGIN:VEVENT
DTSTART;TZID=America/New_York:20191109T120000
DTEND;TZID=America/New_York:20191109T170000
DTSTAMP:20260420T103333
CREATED:20191028T191225Z
LAST-MODIFIED:20191028T191225Z
UID:2523-1573300800-1573318800@www.boulevardatboxhill.com
SUMMARY:WineStock: A Fall Festival hosted by Bacco Italian + Wine Bar
DESCRIPTION:Please join us Saturday afternoon from 12pm to 5pm here on our patio and in front of the restaurant for our first Fall Wine Festival. A portion of the proceeds will benefit The Harford County Education Foundation. We will have 5 Vineyards on site. Charcuterie & Fine Cheeses along with additional outside food and refreshment options available on the patio. $5 wine samples & $9 full glasses also available outside all afternoon. This will be a family friendly event. Bacco will be open inside as well. There will be live music\, pumpkin painting\, apple bobbing\, face painting. marshmallow roasting\, DIY pumpkin succulents & floral arrangements. We will be featuring Italian & California WInes\, as well as local Boordy Vineyard.
URL:https://www.boulevardatboxhill.com/event/winestock-a-fall-festival-hosted-by-bacco-italian-wine-bar/
ATTACH;FMTTYPE=image/jpeg:https://www.boulevardatboxhill.com/wp-content/uploads/2019/10/72240284_3022267887786863_3763341750249193472_n.jpg
END:VEVENT
END:VCALENDAR